BEGIN:VCALENDAR
VERSION:2.0
PRODID:icalendar-ruby
CALSCALE:GREGORIAN
METHOD:PUBLISH
BEGIN:VEVENT
DTSTAMP:20260419T142053Z
UID:1060@status.apps.uwec.edu
DTSTART:20260323T220000
DTEND:20260323T230000
DESCRIPTION:Networking configurations are being updated in Welcome Center. 
 The configuration will occur outside building hours and may cause intermit
 tent network interruptions within the building. If issues arise beyond the
  scheduled maintenance window\, please contact the LTS Help Desk.
SUMMARY:UWEC Network Maintenance - Welcome Center
END:VEVENT
END:VCALENDAR
