BEGIN:VCALENDAR
VERSION:2.0
PRODID:icalendar-ruby
CALSCALE:GREGORIAN
METHOD:PUBLISH
BEGIN:VEVENT
DTSTAMP:20260419T142237Z
UID:1061@status.apps.uwec.edu
DTSTART:20260401T110000
DTEND:20260401T120000
DESCRIPTION:Between 11AM and Noon today\, Windows computers may have reboot
 ed without warning due to a misconfiguration of a software change by LTS t
 hat has since been corrected. LTS apologies for any interruptions this cau
 sed to your classes and work. There is no need to notify the LTS Help Desk
 .
SUMMARY:Windows Computers Rebooting Without Notice
END:VEVENT
END:VCALENDAR
