BEGIN:VCALENDAR
VERSION:2.0
PRODID:icalendar-ruby
CALSCALE:GREGORIAN
METHOD:PUBLISH
BEGIN:VEVENT
DTSTAMP:20260419T142613Z
UID:1064@status.apps.uwec.edu
DTSTART:20260411T060000
DTEND:20260411T080000
DESCRIPTION:On Saturday\, April 11\, from 6:00 a.m. to 8:00 a.m.\, the foll
 owing file shares and web services will be unavailable while the hosting s
 erver undergoes required maintenance.\n\n\\mass.uwec.edu\\projects      (P
 rojects Drive)\n\\archive.uwec.edu\\archive     (Archive Drive)\n\\student
 s.uwec.edu\\deptdir  (Academic Share Drive "W: drive")\n\nhttps://photo.uw
 ec.edu (Photo Archive Manager)\nhttps://mass.uwec.edu (Video Projects mana
 ger)\n\nThanks for your patience\,\nLTS\n
SUMMARY:Upcoming Planned Maintenance
END:VEVENT
END:VCALENDAR
